BEGIN:VCALENDAR
VERSION:2.0
PRODID:-//YVC 온누리 교회 - ECPv6.15.18//NONSGML v1.0//EN
CALSCALE:GREGORIAN
METHOD:PUBLISH
X-WR-CALNAME:YVC 온누리 교회
X-ORIGINAL-URL:https://www.yvconnuri.com
X-WR-CALDESC:Events for YVC 온누리 교회
REFRESH-INTERVAL;VALUE=DURATION:PT1H
X-Robots-Tag:noindex
X-PUBLISHED-TTL:PT1H
BEGIN:VTIMEZONE
TZID:America/Los_Angeles
BEGIN:DAYLIGHT
TZOFFSETFROM:-0800
TZOFFSETTO:-0700
TZNAME:PDT
DTSTART:20250309T100000
END:DAYLIGHT
BEGIN:STANDARD
TZOFFSETFROM:-0700
TZOFFSETTO:-0800
TZNAME:PST
DTSTART:20251102T090000
END:STANDARD
BEGIN:DAYLIGHT
TZOFFSETFROM:-0800
TZOFFSETTO:-0700
TZNAME:PDT
DTSTART:20260308T100000
END:DAYLIGHT
BEGIN:STANDARD
TZOFFSETFROM:-0700
TZOFFSETTO:-0800
TZNAME:PST
DTSTART:20261101T090000
END:STANDARD
BEGIN:DAYLIGHT
TZOFFSETFROM:-0800
TZOFFSETTO:-0700
TZNAME:PDT
DTSTART:20270314T100000
END:DAYLIGHT
BEGIN:STANDARD
TZOFFSETFROM:-0700
TZOFFSETTO:-0800
TZNAME:PST
DTSTART:20271107T090000
END:STANDARD
END:VTIMEZONE
BEGIN:VEVENT
DTSTART;TZID=America/Los_Angeles:20260222T110000
DTEND;TZID=America/Los_Angeles:20260222T113000
DTSTAMP:20260421T083100
CREATED:20260110T162122Z
LAST-MODIFIED:20260201T230625Z
UID:5836-1771758000-1771759800@www.yvconnuri.com
SUMMARY:교인총회
DESCRIPTION:
URL:https://www.yvconnuri.com/event/%ea%b5%90%ec%9d%b8%ec%b4%9d%ed%9a%8c/
END:VEVENT
BEGIN:VEVENT
DTSTART;TZID=America/Los_Angeles:20260201T123000
DTEND;TZID=America/Los_Angeles:20260201T140000
DTSTAMP:20260421T083100
CREATED:20250420T065945Z
LAST-MODIFIED:20260124T194634Z
UID:5491-1769949000-1769954400@www.yvconnuri.com
SUMMARY:임시 카운슬
DESCRIPTION:
URL:https://www.yvconnuri.com/event/%ec%b9%b4%ec%9a%b4%ec%8a%ac/
END:VEVENT
BEGIN:VEVENT
DTSTART;TZID=America/Los_Angeles:20260118T100000
DTEND;TZID=America/Los_Angeles:20260118T170000
DTSTAMP:20260421T083100
CREATED:20260104T041113Z
LAST-MODIFIED:20260104T041331Z
UID:5827-1768730400-1768755600@www.yvconnuri.com
SUMMARY:선교주일
DESCRIPTION:
URL:https://www.yvconnuri.com/event/%ec%84%a0%ea%b5%90%ec%a3%bc%ec%9d%bc/
END:VEVENT
END:VCALENDAR