BEGIN:VCALENDAR
VERSION:2.0
PRODID:-//YVC 온누리 교회 - ECPv6.15.18//NONSGML v1.0//EN
CALSCALE:GREGORIAN
METHOD:PUBLISH
X-WR-CALNAME:YVC 온누리 교회
X-ORIGINAL-URL:https://www.yvconnuri.com
X-WR-CALDESC:Events for YVC 온누리 교회
REFRESH-INTERVAL;VALUE=DURATION:PT1H
X-Robots-Tag:noindex
X-PUBLISHED-TTL:PT1H
BEGIN:VTIMEZONE
TZID:America/Los_Angeles
BEGIN:DAYLIGHT
TZOFFSETFROM:-0800
TZOFFSETTO:-0700
TZNAME:PDT
DTSTART:20250309T100000
END:DAYLIGHT
BEGIN:STANDARD
TZOFFSETFROM:-0700
TZOFFSETTO:-0800
TZNAME:PST
DTSTART:20251102T090000
END:STANDARD
BEGIN:DAYLIGHT
TZOFFSETFROM:-0800
TZOFFSETTO:-0700
TZNAME:PDT
DTSTART:20260308T100000
END:DAYLIGHT
BEGIN:STANDARD
TZOFFSETFROM:-0700
TZOFFSETTO:-0800
TZNAME:PST
DTSTART:20261101T090000
END:STANDARD
BEGIN:DAYLIGHT
TZOFFSETFROM:-0800
TZOFFSETTO:-0700
TZNAME:PDT
DTSTART:20270314T100000
END:DAYLIGHT
BEGIN:STANDARD
TZOFFSETFROM:-0700
TZOFFSETTO:-0800
TZNAME:PST
DTSTART:20271107T090000
END:STANDARD
END:VTIMEZONE
BEGIN:VEVENT
DTSTART;TZID=America/Los_Angeles:20260218T060000
DTEND;TZID=America/Los_Angeles:20260402T070000
DTSTAMP:20260421T064411
CREATED:20260206T212232Z
LAST-MODIFIED:20260206T212235Z
UID:5867-1771394400-1775113200@www.yvconnuri.com
SUMMARY:2026년 사순절 기도자리
DESCRIPTION:· 예수님의 40일 금식기도를 기념하며 부활절을 준비하는 사순절 기간은 자신의 신앙을 성찰하며 몸과 마음을 깨 끗이 하는 절기입니다. 
URL:https://www.yvconnuri.com/event/2026%eb%85%84-%ec%82%ac%ec%88%9c%ec%a0%88-%ea%b8%b0%eb%8f%84%ec%9e%90%eb%a6%ac/
END:VEVENT
BEGIN:VEVENT
DTSTART;TZID=America/Los_Angeles:20260312T170000
DTEND;TZID=America/Los_Angeles:20260312T200000
DTSTAMP:20260421T064411
CREATED:20260206T212538Z
LAST-MODIFIED:20260307T223435Z
UID:5869-1773334800-1773345600@www.yvconnuri.com
SUMMARY:2026년 예비 목자 훈련
DESCRIPTION:
URL:https://www.yvconnuri.com/event/2026%eb%85%84-%ec%98%88%eb%b9%84-%eb%aa%a9%ec%9e%90-%ed%9b%88%eb%a0%a8/
END:VEVENT
BEGIN:VEVENT
DTSTART;TZID=America/Los_Angeles:20260329T100000
DTEND;TZID=America/Los_Angeles:20260329T110000
DTSTAMP:20260421T064411
CREATED:20260201T231434Z
LAST-MODIFIED:20260328T023130Z
UID:5856-1774778400-1774782000@www.yvconnuri.com
SUMMARY:성찬 주일 예배
DESCRIPTION:매월 마지막 주일 예배 시간에  성찬식이 있습니다.  성찬식은 신앙의 핵심인 복음을 재확인하고\, 하나님의 은혜와 성령의 임재를 경험하여 성도의 삶을 거룩하게 하는 중요한 은혜의 수단입니다.  성찬식이 중요한 구체적인 이유는 다음과 같습니다. \n\n\n\n\n예수 그리스도의 희생과 대속 기념: 예수께서 십자가에서 흘리신 피와 살을 떡과 잔으로 기념하며\, 우리의 죄를 용서하신 구원의 은혜를 묵상하게 합니다.\n\n\n\n주님의 명령과 새 언약의 징표: 예수께서 친히 제정하시고 “나를 기념하라”고 명령하신 예식으로\, 십자가로 세워진 ‘새 언약’에 동참함을 인(印) 치는 행위입니다.\n\n\n\n성도와 그리스도의 연합(영적 양식): 성찬을 통해 예수 그리스도와의 영적 하나 됨을 체험하며\, 하늘 양식인 주님을 먹고 마심으로 영적 생명을 유지하고 성숙하게 합니다.\n\n\n\n교회 공동체의 하나 됨: 한 떡과 한 잔을 나누며 성도들이 그리스도 안에서 한 몸이며\, 공동체임을 확인하는 화해와 교제의 자리입니다.\n\n\n\n재림에 대한 소망: 성찬은 주님께서 다시 오실 때까지 계속해야 할 예식으로\, 미래에 완성될 하나님 나라를 고대하는 믿음을 강화합니다. \n\n\n\n\n성찬식은 신앙의 핵심인 복음을 재확인하고\, 하나님의 은혜와 성령의 임재를 경험하여 성도의 삶을 거룩하게 하는 중요한 은혜의 수단입니다. 
URL:https://www.yvconnuri.com/event/%ec%84%b1%ec%b0%ac-%ec%a3%bc%ec%9d%bc-%ec%98%88%eb%b0%b0/
END:VEVENT
BEGIN:VEVENT
DTSTART;TZID=America/Los_Angeles:20260403T190000
DTEND;TZID=America/Los_Angeles:20260403T200000
DTSTAMP:20260421T064411
CREATED:20260328T023439Z
LAST-MODIFIED:20260328T023441Z
UID:5920-1775242800-1775246400@www.yvconnuri.com
SUMMARY:성금요일 예배
DESCRIPTION:
URL:https://www.yvconnuri.com/event/%ec%84%b1%ea%b8%88%ec%9a%94%ec%9d%bc-%ec%98%88%eb%b0%b0/
END:VEVENT
BEGIN:VEVENT
DTSTART;TZID=America/Los_Angeles:20260406T170000
DTEND;TZID=America/Los_Angeles:20260406T210000
DTSTAMP:20260421T064411
CREATED:20260206T212655Z
LAST-MODIFIED:20260404T175131Z
UID:5871-1775494800-1775509200@www.yvconnuri.com
SUMMARY:예비 목자 훈련 7강
DESCRIPTION:
URL:https://www.yvconnuri.com/event/%ec%98%88%eb%b9%84-%eb%aa%a9%ec%9e%90-%ed%9b%88%eb%a0%a8-%ec%98%88%eb%b9%84-%eb%aa%a8%ec%9e%84/
END:VEVENT
BEGIN:VEVENT
DTSTART;TZID=America/Los_Angeles:20260415T183000
DTEND;TZID=America/Los_Angeles:20260415T203000
DTSTAMP:20260421T064411
CREATED:20241228T054734Z
LAST-MODIFIED:20260411T043831Z
UID:5167-1776277800-1776285000@www.yvconnuri.com
SUMMARY:수요 소그룹 모임
DESCRIPTION:“생명의  삶” 묵상을 나누고 함께 기도하는   소그룹 모임입니다.   누구나 참여할 수 있습니다.
URL:https://www.yvconnuri.com/event/5167/
CATEGORIES:Church
END:VEVENT
BEGIN:VEVENT
DTSTART;TZID=America/Los_Angeles:20260418T070000
DTEND;TZID=America/Los_Angeles:20260419T150000
DTSTAMP:20260421T064411
CREATED:20260407T220629Z
LAST-MODIFIED:20260407T220632Z
UID:5937-1776495600-1776610800@www.yvconnuri.com
SUMMARY:교회 설립 3 주년 말씀 집회
DESCRIPTION:교회 설립 3주년을 맞아 “예수 그리스도의 공동체 (목장)”을 주제로 말씀집회를 엽니다. 강사: 김병주 목사 (전 시카고 갈보리교회 담임목사) 세미나1:  4/18(토)  ‘에클레시아’  7-9am  4/19(주일예배) ‘ 에클레시아의 표징’ 10-11:30am   4/19  세미나 2: 4/19(주일)   ‘에클레시아의 성장’ 1-3pm
URL:https://www.yvconnuri.com/event/%ea%b5%90%ed%9a%8c-%ec%84%a4%eb%a6%bd-3-%ec%a3%bc%eb%85%84-%eb%a7%90%ec%94%80-%ec%a7%91%ed%9a%8c/
END:VEVENT
BEGIN:VEVENT
DTSTART;TZID=America/Los_Angeles:20260419T100000
DTEND;TZID=America/Los_Angeles:20260419T113000
DTSTAMP:20260421T064411
CREATED:20260407T220924Z
LAST-MODIFIED:20260407T220926Z
UID:5939-1776592800-1776598200@www.yvconnuri.com
SUMMARY:교회 설립 3주년 감사 예배
DESCRIPTION:교회 설립 3주년을 맞아 “예수 그리스도의 공동체 (목장)”을 주제로 말씀집회를 엽니다. 강사: 김병주 목사 (전 시카고 갈보리교회 담임목사) 세미나1: 4/18(토) ‘에클레시아’ 7-9am 4/19(주일예배) ‘ 에클레시아의 표징’ 10-11:30am 4/19 세미나 2: 4/19(주일) ‘에클레시아의 성장’ 1-3pm
URL:https://www.yvconnuri.com/event/%ea%b5%90%ed%9a%8c-%ec%84%a4%eb%a6%bd-3%ec%a3%bc%eb%85%84-%ea%b0%90%ec%82%ac-%ec%98%88%eb%b0%b0/
END:VEVENT
BEGIN:VEVENT
DTSTART;TZID=America/Los_Angeles:20260419T100000
DTEND;TZID=America/Los_Angeles:20260419T113000
DTSTAMP:20260421T064411
CREATED:20260407T223410Z
LAST-MODIFIED:20260407T223413Z
UID:5943-1776592800-1776598200@www.yvconnuri.com
SUMMARY:예비 목자 훈련 1기 수료식
DESCRIPTION:2026 2월 26일(목)에 시작하여 7주간 ‘YVC온누리 교회 예비 목자 훈련’이  계속되었습니다. YVC온누리 교회 설립 3주년을 맞아 온 교우들이 함께  훈련을 수료한 임종학 장로\, 임용숙 권사\, 이타미 집사 그리고 이베키 집사를  축하합니다.
URL:https://www.yvconnuri.com/event/%ec%98%88%eb%b9%84-%eb%aa%a9%ec%9e%90-%ed%9b%88%eb%a0%a8-1%ea%b8%b0-%ec%88%98%eb%a3%8c%ec%8b%9d/
END:VEVENT
BEGIN:VEVENT
DTSTART;TZID=America/Los_Angeles:20260419T130000
DTEND;TZID=America/Los_Angeles:20260419T150000
DTSTAMP:20260421T064411
CREATED:20260407T221335Z
LAST-MODIFIED:20260407T221338Z
UID:5941-1776603600-1776610800@www.yvconnuri.com
SUMMARY:교회 설립 3주년 기념 말씀 집회(2)
DESCRIPTION:교회 설립 3주년을 맞아 “예수 그리스도의 공동체 (목장)”을 주제로 말씀집회를 엽니다. 강사: 김병주 목사 (전 시카고 갈보리교회 담임목사) 세미나1: 4/18(토) ‘에클레시아’ 7-9am 4/19(주일예배) ‘ 에클레시아의 표징’ 10-11:30am 4/19 세미나 2: 4/19(주일) ‘에클레시아의 성장’ 1-3pm
URL:https://www.yvconnuri.com/event/%ea%b5%90%ed%9a%8c-%ec%84%a4%eb%a6%bd-3%ec%a3%bc%eb%85%84-%ea%b8%b0%eb%85%90-%eb%a7%90%ec%94%80-%ec%a7%91%ed%9a%8c2/
END:VEVENT
END:VCALENDAR